BEGIN:VCALENDAR
VERSION:2.0
PRODID:-//Carlow County Development Partnership - ECPv4.3.4.1//NONSGML v1.0//EN
CALSCALE:GREGORIAN
METHOD:PUBLISH
X-WR-CALNAME:Carlow County Development Partnership
X-ORIGINAL-URL:http://carlowdevelopment.ie
X-WR-CALDESC:Events for Carlow County Development Partnership
BEGIN:VEVENT
DTSTART;VALUE=DATE:20171013
DTEND;VALUE=DATE:20171013
DTSTAMP:20171024T034144
CREATED:20170921T135330Z
LAST-MODIFIED:20170921T140428Z
UID:4358-1507852800-1507939199@carlowdevelopment.ie
SUMMARY:Proposals for Festivals Targetting a National Audience Deadline
DESCRIPTION:Carlow County Development Partnership CLG is currently seeking expressions of interests from Festivals which target a national audience. Deadline for receipt of Expressions of Interest is the 13th of October 2017. For Further details: [real3dflipbook id="15"]\n\n 
URL:http://carlowdevelopment.ie/event/proposals-festivals-targetting-national-audience-deadline/
LOCATION:Bagenalstown\, Co Carlow\, Ireland
ATTACH;FMTTYPE=image/jpeg:http://carlowdevelopment.ie/wp-content/uploads/2017/09/Carlow-County-Development-funding.jpg
END:VEVENT
END:VCALENDAR